BEGIN:VCALENDAR
VERSION:2.0
PRODID:-//Your North Georgia Vacation Guide - ECPv6.15.20//NONSGML v1.0//EN
CALSCALE:GREGORIAN
METHOD:PUBLISH
X-ORIGINAL-URL:https://mountainlakeguide.com
X-WR-CALDESC:Events for Your North Georgia Vacation Guide
REFRESH-INTERVAL;VALUE=DURATION:PT1H
X-Robots-Tag:noindex
X-PUBLISHED-TTL:PT1H
BEGIN:VTIMEZONE
TZID:America/New_York
BEGIN:DAYLIGHT
TZOFFSETFROM:-0500
TZOFFSETTO:-0400
TZNAME:EDT
DTSTART:20250309T070000
END:DAYLIGHT
BEGIN:STANDARD
TZOFFSETFROM:-0400
TZOFFSETTO:-0500
TZNAME:EST
DTSTART:20251102T060000
END:STANDARD
BEGIN:DAYLIGHT
TZOFFSETFROM:-0500
TZOFFSETTO:-0400
TZNAME:EDT
DTSTART:20260308T070000
END:DAYLIGHT
BEGIN:STANDARD
TZOFFSETFROM:-0400
TZOFFSETTO:-0500
TZNAME:EST
DTSTART:20261101T060000
END:STANDARD
BEGIN:DAYLIGHT
TZOFFSETFROM:-0500
TZOFFSETTO:-0400
TZNAME:EDT
DTSTART:20270314T070000
END:DAYLIGHT
BEGIN:STANDARD
TZOFFSETFROM:-0400
TZOFFSETTO:-0500
TZNAME:EST
DTSTART:20271107T060000
END:STANDARD
END:VTIMEZONE
BEGIN:VEVENT
DTSTART;TZID=America/New_York:20260502T123000
DTEND;TZID=America/New_York:20260502T190000
DTSTAMP:20260421T045453
CREATED:20260417T011207Z
LAST-MODIFIED:20260417T011207Z
UID:17598-1777725000-1777748400@mountainlakeguide.com
SUMMARY:Kentucky Derby Party
DESCRIPTION:Join us at Stonewall Creek Vineyards for our Annual Kentucky Derby Party!  The most exciting two minutes in sports!!!  You won’t want to miss this special event which features:  \nJoin us for your pre-race activities or stay until the thrilling race at 6:57pm\nDress in your finest Derby attire\nPrize for best hat – Flowers and Fascinators class 1:30-3:30pm-To learn more and purchase tickets go to https://www.ephemeradc.com/shop\nMINT JULEP Wine Cocktails\nMUSIC by Sweet Charity – Benefits the Local Northeast Georgia Food Bank\nTraditional derby food and charcuterie for purchase\nRemember your day with a Special Photo op with Neighborhood Horses\nAdmission is free\, but we kindly appreciate your donations to the Food Bank.
URL:https://mountainlakeguide.com/event/tiger/kentucky-derby-party/
LOCATION:Stonewall Creek Vineyards\, 323 Standing Deer Lane
CATEGORIES:Tiger
END:VEVENT
BEGIN:VEVENT
DTSTART;TZID=America/New_York:20260509T100000
DTEND;TZID=America/New_York:20260509T210000
DTSTAMP:20260421T045453
CREATED:20260219T225319Z
LAST-MODIFIED:20260219T225319Z
UID:16976-1778320800-1778360400@mountainlakeguide.com
SUMMARY:Triple H Youth Rodeo
DESCRIPTION:Youth Rodeo Series
URL:https://mountainlakeguide.com/event/tiger/triple-h-youth-rodeo-3/
LOCATION:Rabun Arena\, 115 Long View Ln
CATEGORIES:Tiger
END:VEVENT
BEGIN:VEVENT
DTSTART;TZID=America/New_York:20260517T140000
DTEND;TZID=America/New_York:20260517T140000
DTSTAMP:20260421T045453
CREATED:20260417T011207Z
LAST-MODIFIED:20260417T011207Z
UID:17599-1779026400-1779026400@mountainlakeguide.com
SUMMARY:Ray Ferrara
DESCRIPTION:Ray Ferrara live at Stonewall Creek Vineyards
URL:https://mountainlakeguide.com/event/tiger/ray-ferrara/
LOCATION:Stonewall Creek Vineyards\, 323 Standing Deer Lane
CATEGORIES:Tiger
END:VEVENT
END:VCALENDAR