BEGIN:VCALENDAR
VERSION:2.0
PRODID:-//Your North Georgia Vacation Guide - ECPv6.15.20//NONSGML v1.0//EN
CALSCALE:GREGORIAN
METHOD:PUBLISH
X-WR-CALNAME:Your North Georgia Vacation Guide
X-ORIGINAL-URL:https://mountainlakeguide.com
X-WR-CALDESC:Events for Your North Georgia Vacation Guide
REFRESH-INTERVAL;VALUE=DURATION:PT1H
X-Robots-Tag:noindex
X-PUBLISHED-TTL:PT1H
BEGIN:VTIMEZONE
TZID:America/New_York
BEGIN:DAYLIGHT
TZOFFSETFROM:-0500
TZOFFSETTO:-0400
TZNAME:EDT
DTSTART:20250309T070000
END:DAYLIGHT
BEGIN:STANDARD
TZOFFSETFROM:-0400
TZOFFSETTO:-0500
TZNAME:EST
DTSTART:20251102T060000
END:STANDARD
BEGIN:DAYLIGHT
TZOFFSETFROM:-0500
TZOFFSETTO:-0400
TZNAME:EDT
DTSTART:20260308T070000
END:DAYLIGHT
BEGIN:STANDARD
TZOFFSETFROM:-0400
TZOFFSETTO:-0500
TZNAME:EST
DTSTART:20261101T060000
END:STANDARD
BEGIN:DAYLIGHT
TZOFFSETFROM:-0500
TZOFFSETTO:-0400
TZNAME:EDT
DTSTART:20270314T070000
END:DAYLIGHT
BEGIN:STANDARD
TZOFFSETFROM:-0400
TZOFFSETTO:-0500
TZNAME:EST
DTSTART:20271107T060000
END:STANDARD
END:VTIMEZONE
BEGIN:VEVENT
DTSTART;TZID=America/New_York:20260313T090000
DTEND;TZID=America/New_York:20260503T170000
DTSTAMP:20260422T185813
CREATED:20260417T011128Z
LAST-MODIFIED:20260417T011128Z
UID:17624-1773392400-1777827600@mountainlakeguide.com
SUMMARY:A Collection of Paintings by the Sautee Nacoochee Watercolorists
DESCRIPTION:We are very proud to spotlight the multiple paintings created by the talented group called the Sautee Nacoochee Watercolorists. Most of these artists began taking watercolor classes every Thursday afternoon from Becky Peebles-Norris over 15 years ago. Today the group has grown to nearly thirty active watercolorists who continue to meet\, paint and socialize on Thursdays at the SNC art studio.
URL:https://mountainlakeguide.com/event/sautee-nacoochee/a-collection-of-paintings-by-the-sautee-nacoochee-watercolorists/
LOCATION:Sautee Nacoochee Center\, 283 Hwy 255 North\, Sautee Nacoochee\, Georgia\, 30571\, United States
CATEGORIES:Sautee-Nacoochee
END:VEVENT
BEGIN:VEVENT
DTSTART;TZID=America/New_York:20260409T000000
DTEND;TZID=America/New_York:20260426T000000
DTSTAMP:20260422T185813
CREATED:20260219T224943Z
LAST-MODIFIED:20260219T224943Z
UID:16963-1775692800-1777161600@mountainlakeguide.com
SUMMARY:Steel Magnolias
DESCRIPTION:STEEL MAGNOLIAS BY ROBERT HARLING\nMAIN STAGE PERFORMANCE\nDIRECTED BY SONIA SMITH\nSteel Magnolias is a funny\, heartwarming\, and deeply moving portrait of friendship\, resilience\, and Southern charm. Set in a small-town Louisiana beauty salon\, the play follows six women whose lives interweave through laughter\, gossip\, love\, and loss. From weddings to heartbreaks\, their bond carries them through life’s joys and sorrows\, proving that with strength\, humor\, and a touch of hairspray\, anything is possible. Full of sharp wit and emotional depth\, Steel Magnolias captures the power of friendship and the enduring spirit of women who support each other through thick and thin. \nWritten by Robert Harling and first staged Off-Broadway in 1987\, Steel Magnolias quickly became a beloved favorite\, later inspiring the acclaimed 1989 film. While the stage play itself did not receive major awards\, the film adaptation earned multiple nominations\, and the story remains celebrated worldwide for its humor\, heart\, and lasting cultural impact.\nSHOWTIMES:\nAPRIL 9 – APRIL 22\nTHURSDAY THROUGH SATURDAY – 7:00 P.M.\nSUNDAY – 2:00 P.M.
URL:https://mountainlakeguide.com/event/blue-ridge/steel-magnolias/
LOCATION:Blue Ridge Community Theater\, 2591 East 1st St\, Blue Ridge\, Georgia\, United States
CATEGORIES:Blue Ridge
END:VEVENT
BEGIN:VEVENT
DTSTART;TZID=America/New_York:20260411T000000
DTEND;TZID=America/New_York:20260510T000000
DTSTAMP:20260422T185813
CREATED:20260417T010751Z
LAST-MODIFIED:20260417T010751Z
UID:16945-1775865600-1778371200@mountainlakeguide.com
SUMMARY:The Rhododendron Festival
DESCRIPTION:Spend a day in the most beautiful part of North Georgia – Hiawassee and the stunning Hamilton Gardens. This magical botanical garden is filled with native wildflowers like trilliums\, shooting stars\, and trout lilies\, and more than 1\,500 rhododendrons and native azaleas making it the largest collection in the Southeast!\nDuring peak bloom time we will be celebrating our beautiful native flowers with a Rhododendron Festival. Enjoy live music\, food\, drinks\, a plant sale\, daily seminars and more! Admission: $6 donation requested to tour the gardens.
URL:https://mountainlakeguide.com/event/hiawassee/the-rhododendron-festival-2/
LOCATION:Hamilton Gardens\, 96 Pavilion Way
CATEGORIES:Hiawassee
END:VEVENT
BEGIN:VEVENT
DTSTART;TZID=America/New_York:20260413T000000
DTEND;TZID=America/New_York:20260504T000000
DTSTAMP:20260422T185813
CREATED:20260219T225412Z
LAST-MODIFIED:20260219T225412Z
UID:17037-1776038400-1777852800@mountainlakeguide.com
SUMMARY:Student Juried Art + Design Exhibition
DESCRIPTION:Senior Thesis Art + Design Exhibition\nThe Senior Thesis Exhibition is an annual showcase featuring the final work of senior BA students majoring or minoring in Art and Graphic Design. It marks the culmination of their studies\, presenting a cohesive body of artwork and design that reflects each student’s individual creative practice
URL:https://mountainlakeguide.com/event/young-harris/student-juried-art-design-exhibition-2/
LOCATION:Campus Gate Art Gallery\, 1 College St
CATEGORIES:Young Harris
END:VEVENT
BEGIN:VEVENT
DTSTART;TZID=America/New_York:20260422T190000
DTEND;TZID=America/New_York:20260425T000000
DTSTAMP:20260422T185813
CREATED:20260219T225412Z
LAST-MODIFIED:20260219T225412Z
UID:17039-1776884400-1777075200@mountainlakeguide.com
SUMMARY:Working
DESCRIPTION:Working\nAdapted by Stephen Schwartz and Nina Faso and\nbased on Studs Terkel’s groundbreaking bestseller\,\nWorking brings to life the real voices of everyday\nAmericans—teachers\, waitresses\, millworkers\,\nhousewives\, and more—in a powerful and deeply\nhuman celebration of the people who keep the world\nturning. Nominated for six Tony Awards\, this timeless\nmusical has been reimagined for today\, featuring\nfresh new songs by Hamilton’s Lin-Manuel Miranda\nalongside beloved numbers by Stephen Schwartz\,\nJames Taylor\, Micki Grant\, Craig Carnelia\, and others.\nHeartfelt\, funny\, and inspiring\, Working is a moving\ntribute to the unsung heroes all around us.
URL:https://mountainlakeguide.com/event/young-harris/working/
LOCATION:Dobbs Theatre\, 1 College St
CATEGORIES:Young Harris
END:VEVENT
END:VCALENDAR